BEGIN:VCALENDAR
VERSION:2.0
PRODID:-//ChamberMaster//Event Calendar 2.0//EN
METHOD:PUBLISH
X-PUBLISHED-TTL:P3D
REFRESH-INTERVAL:P3D
CALSCALE:GREGORIAN
BEGIN:VEVENT
DTSTART:20100320T203000Z
DTEND:20100320T223000Z
X-MICROSOFT-CDO-ALLDAYEVENT:FALSE
SUMMARY:TEA & CONVERSATION
DESCRIPTION:Dr. Martin\, Washougal Psychologist is hosting Tea & Conversation at the Washougal Town Square.  The guest speaker is Teresa Baldwin\, Washougal School District Superintendent.  Teresa will share a bit about her career\, and then demonstrate her passion: artisan baking.  All attendees will be able to sample some of her delicious baked items.  Come and join other women for an afternoon of conversation\, networking\, learning about yourself and an inspirational local woman.  Tea and food are provided for you.  Register online\, or email Dr. Martin to be placed on the list of attendees.  You deserve a break!
X-ALT-DESC;FMTTYPE=text/html:Dr. Martin\, Washougal Psychologist is hosting Tea &amp\; Conversation at the Washougal Town Square.  The guest speaker is Teresa Baldwin\, Washougal School District Superintendent.  Teresa will share a bit about her career\, and then demonstrate her passion: artisan baking.  All attendees will be able to sample some of her delicious baked items.  Come and join other women for an afternoon of conversation\, networking\, learning about yourself and an inspirational local woman.  Tea and food are provided for you.  Register online\, or email Dr. Martin to be placed on the list of attendees.  You deserve a break!
LOCATION:1700 Main Street\, Conference room 2nd floor
UID:e.139.265
SEQUENCE:3
DTSTAMP:20260424T160055Z
URL:http://business.cwchamber.com/events/details/tea-conversation-03-20-2010-265
END:VEVENT

END:VCALENDAR
