BEGIN:VCALENDAR
VERSION:2.0
PRODID:-//ChamberMaster//Event Calendar 2.0//EN
METHOD:PUBLISH
X-PUBLISHED-TTL:P3D
REFRESH-INTERVAL:P3D
CALSCALE:GREGORIAN
BEGIN:VEVENT
DTSTART;VALUE=DATE:20080409
DTEND;VALUE=DATE:20080410
TRANSP:TRANSPARENT
X-MICROSOFT-CDO-ALLDAYEVENT:TRUE
SUMMARY:STRATEGIC MARKETING SEMINAR
DESCRIPTION:The Vancouver Business Journal Presents....The Small Business Success Series STRATEGIC MARKETING SEMINARApril 9th\, 2008Growing your business through effective marketing.The 10 most common Marketing errors\, is an effective way to demonstrate the value of a strategic marketing approach\, regardless of business size or industry. Often oversimplified and misunderstood marketing is a vital component to any business\, but poor execution will result in less than acceptable business performance.We will discuss why people make these quite natural errors\, how to avoid them\, and what you can and should do instead. Chamber members receive 10% off. Register at http://at-campus.net/clark Then click on EVENTS! Title sponsor: Bank of Clark County $75/person
X-ALT-DESC;FMTTYPE=text/html:<div>The Vancouver Business Journal Presents....</div><div><strong><font size="3">The Small Business Success Series</font></strong></div><div>&nbsp\;</div><div><font size="4">STRATEGIC MARKETING SEMINAR</font></div><div>April 9th\, 2008</div><div><em><font size="3">Growing your business through effective marketing.</font></em></div><p><font size="3"><font size="2">The 10 most common Marketing errors\, is an effective way to demonstrate the value of a strategic marketing approach\, regardless of business size or industry. Often oversimplified and misunderstood marketing is a vital component to any business\, but poor execution will result in less than acceptable business performance.</font></font></p><p><font size="3"><font size="2">We will discuss why people make these quite natural errors\, how to avoid them\, and what you can and should do instead.</font>&nbsp\;</font></p><div>Chamber members receive 10% off.</div><div>&nbsp\;</div><div>Register at <a href="http://at-campus.net/clark">http://at-campus.net/clark</a></div><div>&nbsp\;</div><div>Then click on EVENTS!</div><div>&nbsp\;</div><div>Title sponsor: Bank of Clark County</div><div>&nbsp\;</div><div>$75/person</div>
LOCATION:Go to http://at-campus.net/clark/ for all the details (click on EVENTS).
UID:e.139.120
SEQUENCE:3
DTSTAMP:20260419T125850Z
URL:http://business.cwchamber.com/events/details/strategic-marketing-seminar-04-09-2008-120
END:VEVENT

END:VCALENDAR
