BEGIN:VCALENDAR
VERSION:2.0
PRODID:-//ChamberMaster//Event Calendar 2.0//EN
METHOD:PUBLISH
X-PUBLISHED-TTL:P3D
REFRESH-INTERVAL:P3D
CALSCALE:GREGORIAN
BEGIN:VEVENT
DTSTART;VALUE=DATE:20070920
DTEND;VALUE=DATE:20070921
TRANSP:TRANSPARENT
X-MICROSOFT-CDO-ALLDAYEVENT:TRUE
SUMMARY:SEPTEMBER LUNCHEON
DESCRIPTION:Sherry Nelson\, the Creative Director at the Columbian newspaper will be speaking at the September CW Chamber luncheon. The topic: How to achieve the best possible return in advertising! Nelson will speak about the difference between a good and bad advertisement. She will give tips for creating an effective advertisement for your business that will get you noticed and discuss the importance of the vehicle\, design\, size\, message and objective to get the most reach for your advertising dollar. LAUNCH Fitness is our Luncheon Sponsor:The emphasis of L.A.U.N.C.H is education\; focusing on health through nutrition\, core strength and conditioning\, relaxation techniques\, the power of the mind and myoskeletal alignment. We believe\, teach and practice that a consistent balance in regards to nutrition\, physical fitness\, inner strength both in mind an body are all key elements in obtaining and maximizing personal quality of life.
X-ALT-DESC;FMTTYPE=text/html:<div><font size="3">Sherry Nelson\, the Creative Director at the Columbian newspaper will be speaking at the September CW Chamber luncheon. The topic: How to achieve the best possible return in advertising!</font></div><div><font size="3">&nbsp\;</font></div><div><font size="3">Nelson will speak about the difference between a good and bad advertisement. She will give tips for creating an effective advertisement for your business that will get you noticed and discuss the importance of the vehicle\, design\, size\, message and objective to get the most reach for your advertising dollar.</font></div><div>&nbsp\;</div><div>LAUNCH Fitness is our Luncheon Sponsor:</div><div><font size="2">The emphasis of L.A.U.N.C.H&nbsp\;is education\; focusing on health through nutrition\, core strength and conditioning\, relaxation techniques\, the power of the mind and myoskeletal alignment. We believe\, teach and practice that a consistent balance in regards to nutrition\, physical fitness\, inner strength both in mind an body are all key elements in obtaining and maximizing personal quality of life.</font></div>
LOCATION:Camas Meadows Golf Club4105 NW Camas Meadows DriveCamas WA 98607
UID:e.139.84
SEQUENCE:3
DTSTAMP:20260420T003004Z
URL:http://business.cwchamber.com/events/details/september-luncheon-09-20-2007-84
END:VEVENT

END:VCALENDAR
