BEGIN:VCALENDAR
VERSION:2.0
PRODID:-//ChamberMaster//Event Calendar 2.0//EN
METHOD:PUBLISH
X-PUBLISHED-TTL:P3D
REFRESH-INTERVAL:P3D
CALSCALE:GREGORIAN
BEGIN:VEVENT
DTSTART;VALUE=DATE:20080322
DTEND;VALUE=DATE:20080323
TRANSP:TRANSPARENT
X-MICROSOFT-CDO-ALLDAYEVENT:TRUE
SUMMARY:NIGHT TIME EGG HUNT - CAMAS PARKS & REC
DESCRIPTION:Camas Parks and Recreations Presents... The Night Time Egg Hunt Saturday\, March 22nd9:00 p.m. SHARP!Ages 10-12 Come join us for our seventeenth year of free egg hunts. Bring a flashlight for Saturday. The annual Hat & Bonnet contest will be held on Sunday immediately following the egg hunt. Events are held Rain or Shine. No registration required. Children must be accompanied by an adult. No animals are allowed in the park. Call 360-834-5307 for more questions or visit www.ci.camas.wa.us/parks
X-ALT-DESC;FMTTYPE=text/html:<div><em>Camas Parks and Recreations Presents...</em></div><div>&nbsp\;</div><div><strong><font face="Verdana" size="4">The Night Time Egg Hunt</font></strong></div><div>&nbsp\;</div><div>Saturday\, March 22nd</div><div>9:00 p.m. SHARP!</div><div>Ages 10-12</div><div>&nbsp\;</div><div>Come join us for our seventeenth year of free egg hunts. Bring a flashlight for Saturday. The annual Hat &amp\; Bonnet contest will be held on Sunday immediately following the egg hunt. Events are held Rain or Shine. No registration required.</div><div>&nbsp\;</div><div>Children must be accompanied by an adult. No animals are allowed in the park.</div><div>&nbsp\;</div><div>Call 360-834-5307 for more questions or visit <a href="http://www.ci.camas.wa.us/parks">www.ci.camas.wa.us/parks</a></div><div>&nbsp\;</div>
LOCATION:Crown ParkNE Everett & NE 17th
UID:e.139.116
SEQUENCE:3
DTSTAMP:20260419T142935Z
URL:http://business.cwchamber.com/events/details/night-time-egg-hunt-camas-parks-rec-03-22-2008-116
END:VEVENT

END:VCALENDAR
