BEGIN:VCALENDAR
VERSION:2.0
PRODID:-//ChamberMaster//Event Calendar 2.0//EN
METHOD:PUBLISH
X-PUBLISHED-TTL:P3D
REFRESH-INTERVAL:P3D
CALSCALE:GREGORIAN
BEGIN:VEVENT
DTSTART;VALUE=DATE:20080211
DTEND;VALUE=DATE:20080212
TRANSP:TRANSPARENT
X-MICROSOFT-CDO-ALLDAYEVENT:TRUE
SUMMARY:MEMBERSHIP COMMITTEE MEETING
DESCRIPTION:The Membership Committee of the CW Chamber\, will be holding its next meeting on Monday\, February 11th\, at Los Dos Compadres at 11:30 a.m. This meeting is for all existing members of the committee\, as well as members interested in joining the committee.  Primarily\, the committee works with new members of the CW Chamber\, and acts at ambassadors or mentors regarding upcoming events with new members. As well as\, creating and introducing ideas to the Chamber Board of Directors regarding the committee. The Membership Committee has already established\, Online Training Tutorials for the Chamber's interactive online features\, as well as proposed ideas to the Board regarding a possible referral program for new members.  The Membership Committee also provides a unique opportunity for its members\, as long-lasting relationships are built with our new members through the mentoring process.  The Committee is seeking new members to join the team\, dont be shy\, jump right in this Monday! Current Membership Committee Members are:Co-ChairsDiane Gamble   Agel EnterprisesMartha Martin PhD   Psychologist  MembersLaura Forsyth   Creative Computer Solutions\, Inc. Lisa Newport   Riverview Community BankScott Drill   Eagle West Finanical Melissa Bieber   Premier Mortgage Resources
X-ALT-DESC;FMTTYPE=text/html:<p class="MsoNormal" style="margin: 0in 0in 0pt">&nbsp\;</p><p class="MsoNormal" style="margin: 0in 0in 0pt"><font face="Times New Roman" size="3">The Membership Committee of the CW Chamber\,&nbsp\;will be holding its next meeting on Monday\, February 11th\, at Los Dos Compadres at 11:30 a.m.</font></p><p class="MsoNormal" style="margin: 0in 0in 0pt">&nbsp\;</p><p class="MsoNormal" style="margin: 0in 0in 0pt"><font face="Times New Roman" size="3">This meeting is for all existing members of the committee\, as well as members interested in joining the committee. </font></p><p class="MsoNormal" style="margin: 0in 0in 0pt">&nbsp\;</p><p class="MsoNormal" style="margin: 0in 0in 0pt"><font face="Times New Roman" size="3">Primarily\, the committee works with new members of the CW Chamber\, and acts at ambassadors or mentors regarding upcoming events with new members. As well as\, creating and introducing ideas to the Chamber Board of Directors regarding the committee. The Membership Committee has already established\, Online Training Tutorials for the Chamber&rsquo\;s interactive online features\, as well as proposed ideas to the Board regarding a possible referral program for new members. </font></p><p class="MsoNormal" style="margin: 0in 0in 0pt"><font size="3"><font face="Times New Roman">&nbsp\;<o:p></o:p></font></font></p><p class="MsoNormal" style="margin: 0in 0in 0pt"><font face="Times New Roman" size="3">The Membership Committee also provides a unique opportunity for its members\, as long-lasting relationships are built with our new members through the mentoring process. </font></p><p class="MsoNormal" style="margin: 0in 0in 0pt"><font size="3"><font face="Times New Roman">&nbsp\;<o:p></o:p></font></font></p><p class="MsoNormal" style="margin: 0in 0in 0pt"><font face="Times New Roman" size="3">The Committee is seeking new members to join the team\, dont be shy\, jump right in this Monday!</font></p><p class="MsoNormal" style="margin: 0in 0in 0pt"><font size="3"><font face="Times New Roman">&nbsp\;<o:p></o:p></font></font></p><p class="MsoNormal" style="margin: 0in 0in 0pt"><font face="Times New Roman" size="3"><strong>Current Membership Committee Members are:</strong></font></p><p class="MsoNormal" style="margin: 0in 0in 0pt"><font face="Times New Roman" size="3"><em><u>Co-Chairs</u></em></font></p><p class="MsoNormal" style="margin: 0in 0in 0pt"><font face="Times New Roman" size="3">Diane Gamble &ndash\; Agel Enterprises</font></p><p class="MsoNormal" style="margin: 0in 0in 0pt"><font face="Times New Roman" size="3">Martha Martin PhD &ndash\; Psychologist </font></p><p class="MsoNormal" style="margin: 0in 0in 0pt"><font size="3"><font face="Times New Roman">&nbsp\;<o:p></o:p></font></font></p><p class="MsoNormal" style="margin: 0in 0in 0pt"><font face="Times New Roman" size="3"><u><em>Members</em></u></font></p><p class="MsoNormal" style="margin: 0in 0in 0pt"><font face="Times New Roman" size="3">Laura Forsyth &ndash\; Creative Computer Solutions\, Inc. </font></p><p class="MsoNormal" style="margin: 0in 0in 0pt"><font face="Times New Roman" size="3">Lisa Newport &ndash\; Riverview Community Bank</font></p><p class="MsoNormal" style="margin: 0in 0in 0pt"><font face="Times New Roman" size="3">Scott Drill &ndash\; Eagle West Finanical </font></p><div><span style="font-size: 12pt\; font-family: &quot\;Times New Roman&quot\;\; mso-fareast-font-family: 'Times New Roman'\; mso-ansi-language: EN-US\; mso-fareast-language: EN-US\; mso-bidi-language: AR-SA">Melissa Bieber &ndash\; Premier Mortgage Resources</span></div>
LOCATION:Los Dos Compadres701 E Street - Washougal
UID:e.139.108
SEQUENCE:3
DTSTAMP:20260419T161613Z
URL:http://business.cwchamber.com/events/details/membership-committee-meeting-02-11-2008-108
END:VEVENT

END:VCALENDAR
