BEGIN:VCALENDAR
VERSION:2.0
PRODID:-//ChamberMaster//Event Calendar 2.0//EN
METHOD:PUBLISH
X-PUBLISHED-TTL:P3D
REFRESH-INTERVAL:P3D
CALSCALE:GREGORIAN
BEGIN:VEVENT
DTSTART;VALUE=DATE:20080320
DTEND;VALUE=DATE:20080321
TRANSP:TRANSPARENT
X-MICROSOFT-CDO-ALLDAYEVENT:TRUE
SUMMARY:MARCH LUNCHEON EVENT
DESCRIPTION:Please join the Camas-Washougal Chamber of Commerce\, on Thursday\, March 20th\, at Camas Meadows Golf Club\, for the Monthly Luncheon event.This is a great opportunity to network\, share information about your businesses\, and listen to the keynote speakers: Camas Superintendent Mike Nerland\, and Washougal Superintendent Teresa Baldwin\, present their 'State of the Schools' address.The Chamber's Economic Development Committee has been building a strong relationship with the school districts\, to foster a long-lasting link between school success and local business success.RSVP your seat at the luncheon at LEAST 24 HRS in advance. As we pre-order lunches. Call 360-834-2472 or register online for the event. Doors open at 11:30 program begins at noon. $15/member $17/non-member
X-ALT-DESC;FMTTYPE=text/html:<div><font size="2"><p align="justify"><font face="Verdana" size="3">Please join the Camas-Washougal Chamber of Commerce\, on Thursday\, March 20th\, at Camas Meadows Golf Club\, for the Monthly Luncheon event.</font></p><p align="justify"><font face="Verdana" size="3">This is a great opportunity to network\, share information about your businesses\, and listen to the keynote speakers: Camas Superintendent Mike&nbsp\;Nerland\, and Washougal Superintendent Teresa Baldwin\, present their 'State of the Schools'&nbsp\;address.</font></p><p align="justify"><font face="Verdana" size="3">The Chamber&rsquo\;s Economic Development Committee has been building a strong relationship with the school districts\, to foster a long-lasting link between school success and local business success.</font></p></font></div><p align="justify"><font size="3"><font face="Verdana"><strong>RSVP your seat at the luncheon at LEAST 24 HRS in advance. As we pre-order lunches.</strong> Call 360-834-2472 or register online for the event. Doors open at 11:30 program begins at noon. $15/member $17/non-member</font></font></p>
LOCATION:Camas Meadows Golf Club4105 NW Camas Meadows DriveCamas WA 98607
UID:e.139.110
SEQUENCE:3
DTSTAMP:20260419T142747Z
URL:http://business.cwchamber.com/events/details/march-luncheon-event-03-20-2008-110
END:VEVENT

END:VCALENDAR
