BEGIN:VCALENDAR
VERSION:2.0
PRODID:-//ChamberMaster//Event Calendar 2.0//EN
METHOD:PUBLISH
X-PUBLISHED-TTL:P3D
REFRESH-INTERVAL:P3D
CALSCALE:GREGORIAN
BEGIN:VEVENT
DTSTART;VALUE=DATE:20080307
DTEND;VALUE=DATE:20080308
TRANSP:TRANSPARENT
X-MICROSOFT-CDO-ALLDAYEVENT:TRUE
SUMMARY:MARCH FIRST FRIDAY EVENT - CAMAS
DESCRIPTION:"SPRING HAS SPRUNG IN CAMAS" Will YOU pick the golden egg? See if you are the one to pull the golden egg from each business's basket! Visit each store and see all that's new for spring. Hope you can join us! For more information go to www.downtowncamas.com or call 834-5445.
X-ALT-DESC;FMTTYPE=text/html:<div align="center"><font color="#993366" size="5">&quot\;SPRING HAS SPRUNG IN CAMAS&quot\;</font></div><div align="center">&nbsp\;</div><div align="center"><em><font style="background-color: #800080" color="#ffcc00" size="3"><strong>Will YOU pick the golden egg?</strong></font></em></div><div align="center">&nbsp\;</div><div align="center">See if you are the one to pull the golden egg from each business's basket!</div><div align="center">&nbsp\;</div><div align="center">Visit each store and see all that's new for spring. Hope you can join us!</div><div align="center">&nbsp\;</div><div align="center">For more information go to <a href="http://www.downtowncamas.com">www.downtowncamas.com</a> or call 834-5445.</div>
LOCATION:Downtown Camas\, on Fourth Avenue and side streets!
UID:e.139.113
SEQUENCE:3
DTSTAMP:20260419T142737Z
URL:http://business.cwchamber.com/events/details/march-first-friday-event-camas-03-07-2008-113
END:VEVENT

END:VCALENDAR
