BEGIN:VCALENDAR
VERSION:2.0
PRODID:-//ChamberMaster//Event Calendar 2.0//EN
METHOD:PUBLISH
X-PUBLISHED-TTL:P3D
REFRESH-INTERVAL:P3D
CALSCALE:GREGORIAN
BEGIN:VEVENT
DTSTART:20220319T000000Z
DTEND:20220319T040000Z
X-MICROSOFT-CDO-ALLDAYEVENT:FALSE
SUMMARY:Little Art Camas
DESCRIPTION:
X-ALT-DESC;FMTTYPE=text/html:
LOCATION:Downtown Camas
UID:e.139.2280
SEQUENCE:3
DTSTAMP:20260422T070333Z
URL:http://business.cwchamber.com/events/details/little-art-camas-2280
END:VEVENT

END:VCALENDAR
