BEGIN:VCALENDAR
VERSION:2.0
PRODID:-//ChamberMaster//Event Calendar 2.0//EN
METHOD:PUBLISH
X-PUBLISHED-TTL:P3D
REFRESH-INTERVAL:P3D
CALSCALE:GREGORIAN
BEGIN:VEVENT
DTSTART;VALUE=DATE:20080117
DTEND;VALUE=DATE:20080118
TRANSP:TRANSPARENT
X-MICROSOFT-CDO-ALLDAYEVENT:TRUE
SUMMARY:JANUARY LUNCHEON
DESCRIPTION:David Hanawalt\, Director of Employers Overload Supported Employment will speak at the CW Chamber luncheon on Thursday\, January 17th at Camas Meadows Golf Club. Hanawalt will speak on the expanding partnership and collaborative efforts of Camas and Washougal School Districts\, the local business community and Employers Overload. As a result of this collaboration students with disabilities are graduating with marketable work skills and entering directly into the work force. Local businesses are utilizing employees with disabilities to fill important positions in their companies. Mr. Hanawalt will provide additional information on how this partnership and collaboration can continue to develop in the Camas-Washougal Community to further benefit individuals with disabilities and local businesses.Employers Overload Supported Employment has been a Supported Employment Agency for 16 years operating in Clark County. Today we provided services to 85 individuals with disabilities and 30 businesses.
X-ALT-DESC;FMTTYPE=text/html:<div><font size="2"><p align="justify">David Hanawalt\, Director<strong> </strong>of Employers Overload Supported Employment will speak at the CW Chamber luncheon on Thursday\, January 17th at Camas Meadows Golf Club. Hanawalt will speak on the expanding partnership and collaborative efforts of Camas and Washougal School Districts\, the local business community and Employers Overload. As a result of this collaboration students with disabilities are graduating with marketable work skills and entering directly into the work force. Local businesses are utilizing employees with disabilities to fill important positions in their companies. Mr. Hanawalt will provide additional information on how this partnership and collaboration can continue to develop in the Camas-Washougal Community to further benefit individuals with disabilities and local businesses.</p><p>Employers Overload Supported Employment has been a Supported Employment Agency for 16 years operating in Clark County. Today we provided services to 85 individuals with disabilities and 30 businesses.</p></font></div>
LOCATION:Camas Meadows Golf Club4105 NW Camas Meadows DriveCamas WA 98607
UID:e.139.104
SEQUENCE:3
DTSTAMP:20260419T180545Z
URL:http://business.cwchamber.com/events/details/january-luncheon-01-17-2008-104
END:VEVENT

END:VCALENDAR
