BEGIN:VCALENDAR
VERSION:2.0
PRODID:-//ChamberMaster//Event Calendar 2.0//EN
METHOD:PUBLISH
X-PUBLISHED-TTL:P3D
REFRESH-INTERVAL:P3D
CALSCALE:GREGORIAN
BEGIN:VEVENT
DTSTART;VALUE=DATE:20080321
DTEND;VALUE=DATE:20080322
TRANSP:TRANSPARENT
X-MICROSOFT-CDO-ALLDAYEVENT:TRUE
SUMMARY:HOPE STORIES PART 11 @ LARA BLAIR IMAGES STUDIO
DESCRIPTION:Lara Blair Images Studio is proud to invite you to our "Hope Stories" party - This is a book for newly diagnosed women with portraits of survivors and their stories. Come and join inspiring women for a great conversation\, great desserts\, some music and an incredible slide-show of our new LBI survivors!
X-ALT-DESC;FMTTYPE=text/html:<div>Lara Blair Images Studio is proud to invite you to our &quot\;Hope Stories&quot\; party - This is a book for newly diagnosed women with portraits of survivors and their stories. Come and join inspiring women for a great conversation\, great desserts\, some music and an incredible slide-show of our new LBI survivors!</div>
LOCATION:Lara Blair Imaes Studio 307 NE Birch Street (2nd Floor)
UID:e.139.112
SEQUENCE:3
DTSTAMP:20260419T142910Z
URL:http://business.cwchamber.com/events/details/hope-stories-part-11-lara-blair-images-studio-03-21-2008-112
END:VEVENT

END:VCALENDAR
