BEGIN:VCALENDAR
VERSION:2.0
PRODID:-//ChamberMaster//Event Calendar 2.0//EN
METHOD:PUBLISH
X-PUBLISHED-TTL:P3D
REFRESH-INTERVAL:P3D
CALSCALE:GREGORIAN
BEGIN:VEVENT
DTSTART:20061118T080000Z
DTEND:20061118T080000Z
X-MICROSOFT-CDO-ALLDAYEVENT:FALSE
SUMMARY:Holiday Marketplace
DESCRIPTION:On November 18th the sixth annual Holiday Marketplace will occur at Washougal High School in the Commons area. There will be over 100 vendors of arts\, crafts and homemade one-of-a-kind gifts! Don't miss your chance for fun\, shopping\, food\, carolers\, and event Santa too!!
X-ALT-DESC;FMTTYPE=text/html:On November 18th the sixth annual Holiday Marketplace will occur at Washougal High School in the Commons area. There will be over 100 vendors of arts\, crafts and homemade one-of-a-kind gifts! Don't miss your chance for fun\, shopping\, food\, carolers\, and event Santa too!! \n\n
LOCATION:Washougal High School Commons 1201 39th Street Washougal WA 98671
UID:e.139.30
SEQUENCE:3
DTSTAMP:20260420T181406Z
URL:http://business.cwchamber.com/events/details/holiday-marketplace-11-18-2006-30
END:VEVENT

END:VCALENDAR
