BEGIN:VCALENDAR
VERSION:2.0
PRODID:-//ChamberMaster//Event Calendar 2.0//EN
METHOD:PUBLISH
X-PUBLISHED-TTL:P3D
REFRESH-INTERVAL:P3D
CALSCALE:GREGORIAN
BEGIN:VEVENT
DTSTART:20080404T230000Z
DTEND:20080406T020000Z
X-MICROSOFT-CDO-ALLDAYEVENT:FALSE
SUMMARY:Heritage Gallery Welcomes Artist Bob Byerley
DESCRIPTION:BOB  BYERLEY IN PERSON!\n\nKnown as the modern day Norman Rockwell\, Bob Byerley captures the nostalgic images of our childhood\, using a brush\, paint\, and a gifted imagination. Coming to us from his home in Lee?s Summit\, Missouri\, Bob will be releasing his latest masterpiece\, Wild Flowers\, at Heritage Gallery. It is said to be his best work yet. You will be delighted to meet him and his wife Alice.\n\nRead more about Bob Byerley at\nhttp://www.heritagefineart.com/featured-artists/bob-byerley
X-ALT-DESC;FMTTYPE=text/html:BOB  BYERLEY IN PERSON!\n\nKnown as the modern day Norman Rockwell\, Bob Byerley captures the nostalgic images of our childhood\, using a brush\, paint\, and a gifted imagination. Coming to us from his home in Lee?s Summit\, Missouri\, Bob will be releasing his latest masterpiece\, Wild Flowers\, at Heritage Gallery. It is said to be his best work yet. You will be delighted to meet him and his wife Alice.\n\nRead more about Bob Byerley at\nhttp://www.heritagefineart.com/featured-artists/bob-byerley\n
LOCATION:Heritage Gallery Fine Art & Frames 16020 SE Mill Plain Blvd.\, Suite 109 Vancouver\, WA 98684
UID:e.139.117
SEQUENCE:3
DTSTAMP:20260419T143032Z
URL:http://business.cwchamber.com/events/details/heritage-gallery-welcomes-artist-bob-byerley-04-04-2008-117
END:VEVENT

END:VCALENDAR
