BEGIN:VCALENDAR
VERSION:2.0
PRODID:-//ChamberMaster//Event Calendar 2.0//EN
METHOD:PUBLISH
X-PUBLISHED-TTL:P3D
REFRESH-INTERVAL:P3D
CALSCALE:GREGORIAN
BEGIN:VEVENT
DTSTART:20080418T020000Z
DTEND:20080418T020000Z
X-MICROSOFT-CDO-ALLDAYEVENT:FALSE
SUMMARY:Heritage Gallery Host Third Thursday!
DESCRIPTION:We invite you to join us every ?Third Thursday? of the month for a FREE 1-hour session from 7:00-8:00 pm to learn about an art-related topic\, enjoy light refreshments\, and peruse the gallery for the latest featured art. Visit our web site at http://heritagefineart.com and signup for our monthly newsletter for a more detailed explanation of this month?s topic.\n\nHeritage Gallery presents this month's Third Thursday event:\n\nArt Preservation\nApril 17th\, 2008\n7:00 pm to 8:00 pm\n\nYou may think that simply framing a photo or piece of art would provide adequate protection\, but all too often the image is exposed to damaging elements. Don't wait until it's too late. Come this month to learn how to protect your art. See you at the gallery!\n\nRaffle prize given at end of evening.
X-ALT-DESC;FMTTYPE=text/html:We invite you to join us every ?Third Thursday? of the month for a FREE 1-hour session from 7:00-8:00 pm to learn about an art-related topic\, enjoy light refreshments\, and peruse the gallery for the latest featured art. Visit our web site at http://heritagefineart.com and signup for our monthly newsletter for a more detailed explanation of this month?s topic.\n\nHeritage Gallery presents this month's Third Thursday event:\n\nArt Preservation\nApril 17th\, 2008\n7:00 pm to 8:00 pm\n\nYou may think that simply framing a photo or piece of art would provide adequate protection\, but all too often the image is exposed to damaging elements. Don't wait until it's too late. Come this month to learn how to protect your art. See you at the gallery!\n\nRaffle prize given at end of evening.\n
LOCATION:Heritage Gallery Fine Art & Frames 16020 SE Mill Plain Blvd.\, Suite 109 Vancouver\, WA 98684
UID:e.139.121
SEQUENCE:3
DTSTAMP:20260419T125533Z
URL:http://business.cwchamber.com/events/details/heritage-gallery-host-third-thursday-04-17-2008-121
END:VEVENT

END:VCALENDAR
