BEGIN:VCALENDAR
VERSION:2.0
PRODID:-//ChamberMaster//Event Calendar 2.0//EN
METHOD:PUBLISH
X-PUBLISHED-TTL:P3D
REFRESH-INTERVAL:P3D
CALSCALE:GREGORIAN
BEGIN:VEVENT
DTSTART:20060901T070000Z
DTEND:20070831T070000Z
X-MICROSOFT-CDO-ALLDAYEVENT:FALSE
SUMMARY:Friday Morning Coffee Hour
DESCRIPTION:Every Friday from 10 a.m. - 11 a.m. the Chamber opens it doors to the community for an informal coffee hour.
X-ALT-DESC;FMTTYPE=text/html:Every Friday from 10 a.m. - 11 a.m. the Chamber opens it doors to the community for an informal coffee hour. 
LOCATION:Chamber Office 422 NE 4th Ave Camas\, WA 98607
UID:e.139.4
SEQUENCE:3
DTSTAMP:20260420T023002Z
URL:http://business.cwchamber.com/events/details/friday-morning-coffee-hour-09-01-2006-4
END:VEVENT

END:VCALENDAR
