BEGIN:VCALENDAR
VERSION:2.0
PRODID:-//ChamberMaster//Event Calendar 2.0//EN
METHOD:PUBLISH
X-PUBLISHED-TTL:P3D
REFRESH-INTERVAL:P3D
CALSCALE:GREGORIAN
BEGIN:VEVENT
DTSTART;VALUE=DATE:20080221
DTEND;VALUE=DATE:20080222
TRANSP:TRANSPARENT
X-MICROSOFT-CDO-ALLDAYEVENT:TRUE
SUMMARY:FEBRUARY LUNCHEON
DESCRIPTION:Join us on Thursday\, February 21st\, for the State of the County address\, given by Clark County Commissioner: Betty Sue Morris. Morris\, (District 1) is a former Washington State Representative from the 18th legislative district and a former professional journalist. She is now serving as the President of the Board of the Clark County Commissioners.\n\nMorris was named the "Woman of Achievement 2005" by the YWCA/Clark College\; "Citizen of the Year 2004"\, by the Clark County Realtors Association\; "Outstanding Local Elected Official of the Year 2004" by the National Home Builders Association\; and named one of "Clark County's Most Powerful Women\," in 2007. The Chamber is honored to have Betty Sue Morris as our keynote speaker!
X-ALT-DESC;FMTTYPE=text/html:<div>\n<p align="justify"><font size="2">Join us on Thursday\, February 21st\, for the State of the County address\, given by Clark County Commissioner: Betty Sue Morris. Morris\, (District 1) is a former Washington State Representative from the 18th legislative district and a former professional journalist. She is now serving as the President of the Board of the Clark County Commissioners.</font></p>\n\n<p align="justify"><font size="2">Morris was named the &ldquo\;Woman of Achievement 2005&rdquo\; by the YWCA/Clark College\; &ldquo\;Citizen of the Year 2004&rdquo\;\, by the Clark County Realtors Association\; &ldquo\;Outstanding Local Elected Official of the Year 2004&rdquo\; by the National Home Builders Association\; and named one of &ldquo\;Clark County&#39\;s Most Powerful Women\,&rdquo\; in 2007. The Chamber is honored to have Betty Sue Morris as our keynote speaker!</font></p>\n</div>\n\n<p align="justify">&nbsp\;</p>\n
LOCATION:Camas Meadows Golf Club 4105 NW Camas Meadows Drive Camas WA 98607 1.800.750.6511
UID:e.139.105
SEQUENCE:3
DTSTAMP:20260419T161228Z
URL:http://business.cwchamber.com/events/details/february-luncheon-02-21-2008-105
END:VEVENT

END:VCALENDAR
