BEGIN:VCALENDAR
VERSION:2.0
PRODID:-//ChamberMaster//Event Calendar 2.0//EN
METHOD:PUBLISH
X-PUBLISHED-TTL:P3D
REFRESH-INTERVAL:P3D
CALSCALE:GREGORIAN
BEGIN:VEVENT
DTSTART:20080202T010000Z
DTEND:20080202T040000Z
X-MICROSOFT-CDO-ALLDAYEVENT:FALSE
SUMMARY:Event at Workshed Creative Agency
DESCRIPTION:On Friday\, Feb. 1: The Workshed Creative Agency hosts photographer Lara Blair and a collection of her "Hudson Valley Landscapes"--Barns and scenic landscapes and the fall in Warwick\, New York. \n\nContact: Debbie Fenderson\, 360-833-2901.\n\nCamas First Friday Features Local Talent\n\nWhat:		Camas First Friday\n\nWhen: 	5 p.m. to 8 p.m.\, Friday\, Feb. 1\n\nWhere:	Workshed Creative Agency\n415 NE Cedar Street\, Suite B\nCamas\, WA 98607\n\nWhy:	Workshed Creative Agency is proud to host a showing for Lara Blair. Refreshments will be served.\n	\nLara Blair is the owner of Lara Blair Images\, a portrait studio in downtown Camas\, WA.\n\nA ?Lara Blair Image? is unmistakable. The expressions are natural and spontaneous?the relationship captured between the subjects is clear. Lara believes that building a relationship with a family through the portrait-making experience is paramount to  the creation of an unforgettable image. This relationship begins with finding out the family?s ?story? in their own home at the design consultation. The portrait sessions take place in beautiful outdoor locations\, in the client?s home\, or in her Warwick studio against a simple backdrop with studio or window light. Her clients come from every walk of life ~ newborns\, expectant mothers\, couples\, families\, siblings\, high school seniors\, and just about anyone who yearns for a portrait that is telling of who they truly are.\n\nWhen she's not working with clients in the studio or on location\, Lara enjoys taking landscape images of barns\, outdoor scenery\, and people out enjoying the outdoors. Her three-year stay in the Hudson Valley in New York allowed her some incredible opportunities to capture the beauty of the East Coast.\n\nDue to the time intensity of custom portraiture\, Lara accepts an exclusive number of clients each year. The calendar is filling quickly\, so please contact Lara today to reserve your session date. You can view Lara?s portfolio on her website www.larablairimages.com.  If you are interested in having her tell your family?s story through a fine art portrait\, please call the studio at (360) 834-4814.
X-ALT-DESC;FMTTYPE=text/html:On Friday\, Feb. 1: The Workshed Creative Agency hosts photographer Lara Blair and a collection of her "Hudson Valley Landscapes"--Barns and scenic landscapes and the fall in Warwick\, New York. \n\nContact: Debbie Fenderson\, 360-833-2901.\n\nCamas First Friday Features Local Talent\n\nWhat:		Camas First Friday\n\nWhen: 	5 p.m. to 8 p.m.\, Friday\, Feb. 1\n\nWhere:	Workshed Creative Agency\n415 NE Cedar Street\, Suite B\nCamas\, WA 98607\n\nWhy:	Workshed Creative Agency is proud to host a showing for Lara Blair. Refreshments will be served.\n	\nLara Blair is the owner of Lara Blair Images\, a portrait studio in downtown Camas\, WA.\n\nA ?Lara Blair Image? is unmistakable. The expressions are natural and spontaneous?the relationship captured between the subjects is clear. Lara believes that building a relationship with a family through the portrait-making experience is paramount to  the creation of an unforgettable image. This relationship begins with finding out the family?s ?story? in their own home at the design consultation. The portrait sessions take place in beautiful outdoor locations\, in the client?s home\, or in her Warwick studio against a simple backdrop with studio or window light. Her clients come from every walk of life ~ newborns\, expectant mothers\, couples\, families\, siblings\, high school seniors\, and just about anyone who yearns for a portrait that is telling of who they truly are.\n\nWhen she's not working with clients in the studio or on location\, Lara enjoys taking landscape images of barns\, outdoor scenery\, and people out enjoying the outdoors. Her three-year stay in the Hudson Valley in New York allowed her some incredible opportunities to capture the beauty of the East Coast.\n\nDue to the time intensity of custom portraiture\, Lara accepts an exclusive number of clients each year. The calendar is filling quickly\, so please contact Lara today to reserve your session date. You can view Lara?s portfolio on her website www.larablairimages.com.  If you are interested in having her tell your family?s story through a fine art portrait\, please call the studio at (360) 834-4814.\n
LOCATION:
UID:e.139.107
SEQUENCE:3
DTSTAMP:20260419T161529Z
URL:http://business.cwchamber.com/events/details/event-at-workshed-creative-agency-02-01-2008-107
END:VEVENT

END:VCALENDAR
