BEGIN:VCALENDAR
VERSION:2.0
PRODID:-//ChamberMaster//Event Calendar 2.0//EN
METHOD:PUBLISH
X-PUBLISHED-TTL:P3D
REFRESH-INTERVAL:P3D
CALSCALE:GREGORIAN
BEGIN:VEVENT
DTSTART:20080229T030000Z
DTEND:20080229T043000Z
X-MICROSOFT-CDO-ALLDAYEVENT:FALSE
SUMMARY:Event at KIDS UNIVERSE
DESCRIPTION:Dear community members and parents\, The staff and I are excited to have the opportunity to partner with Arbonne International to raise funds for our school. It is our goal to use the funds to enrich every child's experience at Kids Universe. We would love to be able to make multiple purchases for each age group. We have lots of ideas\, including\; bikes for the outdoor play area and an indoor slide. What can you imagine? We hope that all of you will thoughtfully consider supporting the school by giving a small amount of your time. The fundraising show is on February 28th at 7:00pm. Arbonne offers a unique fundraising program that allows you to help raise funds by simply coming. We hope to see you then! You are about to discover revolutionary products that are pure\, safe and beneficial\, meaning you can use them with confidence. Arbonne's products are designed to deliver results. You will see amazing before and after pictures\, and inside you'll discover the Arbonne Difference. Arbonne has amazing lines in skin care\, cosmetics\, nutrition\, aromatherapy\, and weight management. Please feel free to check out all of our products at arbonne.com. If you have any questions before the fundraising show\, please feel free to contact me. I look forward to meeting all of you. Cindie's Independent Consultant  #17435692 (360) 835-1980
X-ALT-DESC;FMTTYPE=text/html:<div>Dear community members and parents\, The staff and I are excited to have the opportunity to partner with Arbonne International to raise funds for our school.</div><div>&nbsp\;</div><div>It is our goal to use the funds to enrich every child's experience at Kids Universe. We would love to be able to make multiple purchases for each age group. We have lots of ideas\, including\; bikes for the outdoor play area and an indoor slide. What can you imagine? We hope that all of you will thoughtfully consider supporting the school by giving a small amount of your time.</div><div>&nbsp\;</div><div>The fundraising show is on February 28th at 7:00pm. Arbonne offers a unique fundraising program that allows you to help raise funds by simply coming. We hope to see you then!</div><div>&nbsp\;</div><div>You are about to discover revolutionary products that are pure\, safe and beneficial\, meaning you can use them with confidence. Arbonne's products are designed to deliver results. You will see amazing before and after pictures\, and inside you'll discover the Arbonne Difference. Arbonne has amazing lines in skin care\, cosmetics\, nutrition\, aromatherapy\, and weight management. Please feel free to check out all of our products at arbonne.com. If you have any questions before the fundraising show\, please feel free to contact me. I look forward to meeting all of you. Cindie's Independent Consultant&nbsp\; #17435692 (360) 835-1980</div>
LOCATION:Kids Universe 3307 Evergreen Way\, #602 Washougal - Same parking lot as Safeway
UID:e.139.111
SEQUENCE:3
DTSTAMP:20260419T174943Z
URL:http://business.cwchamber.com/events/details/event-at-kids-universe-02-28-2008-111
END:VEVENT

END:VCALENDAR
