BEGIN:VCALENDAR
VERSION:2.0
PRODID:-//ChamberMaster//Event Calendar 2.0//EN
METHOD:PUBLISH
X-PUBLISHED-TTL:P3D
REFRESH-INTERVAL:P3D
CALSCALE:GREGORIAN
BEGIN:VEVENT
DTSTART:20080607T143000Z
DTEND:20080607T170000Z
X-MICROSOFT-CDO-ALLDAYEVENT:FALSE
SUMMARY:Event AGEL ENTERPRISES for AgelCares Foundation
DESCRIPTION:Agel Enterprises to hold 5 K Run/Walk for its AgelCares Foundation in over 28 Cities throughout the US and Canada. The Fit Challenge 5k..Because AgelCares event will bring thousands of people together in an effort to promote healthy lifestyles and provide monetary support for the AgelCares Foundation.
X-ALT-DESC;FMTTYPE=text/html:Agel Enterprises to hold 5 K Run/Walk for its AgelCares Foundation in over 28 Cities throughout the US and Canada. The Fit Challenge 5k..Because AgelCares event will bring thousands of people together in an effort to promote healthy lifestyles and provide monetary support for the AgelCares Foundation. 
LOCATION:Vancouver\, WA -- Nautilus Headquarters 16400 SE Nautilus Drive Parking lot off Tech Center Drive in East Vancouver
UID:e.139.134
SEQUENCE:3
DTSTAMP:20260419T221131Z
URL:http://business.cwchamber.com/events/details/event-agel-enterprises-for-agelcares-foundation-06-07-2008-134
END:VEVENT

END:VCALENDAR
