BEGIN:VCALENDAR
VERSION:2.0
PRODID:-//ChamberMaster//Event Calendar 2.0//EN
METHOD:PUBLISH
X-PUBLISHED-TTL:P3D
REFRESH-INTERVAL:P3D
CALSCALE:GREGORIAN
BEGIN:VEVENT
DTSTART:20080330T020000Z
DTEND:20080330T040000Z
X-MICROSOFT-CDO-ALLDAYEVENT:FALSE
SUMMARY:Classical Pianist Marie-Andree Ostiguy
DESCRIPTION:CLAP!   Classical? Loveable? Accessible? Pianist!\n\nSchubertiades ? a musical evening featuring composers Franz Schubert\, Mozart\, Chopin and more!  Marie-AndrÃ©e combines virtuoso playing with subtle and accessible commentary.\n\nConcert pianist Marie-AndrÃ©e Ostiguy has built a strong reputation for her consistent ability to entertain her audience with performances that bring together classical works and her original compositions.  Her folksy down-home style has also earned her a large following on TV\, radio and in particular on the stage\, where her connection with the audience has irrefutably redefined the popular perception of a ?concert pianist?.  Her touring program ?Schubertiades? will awaken you to the romanticism of Franz Schubert?s ?Impromptus & Scherzi? along with works of Mozart\, Chopin and her original compositions.\n\nSpecial thanks to our print media sponsors The Columbian and the Camas-Washougal Post-Record
X-ALT-DESC;FMTTYPE=text/html:CLAP!   Classical? Loveable? Accessible? Pianist!\n\nSchubertiades ? a musical evening featuring composers Franz Schubert\, Mozart\, Chopin and more!  Marie-AndrÃ©e combines virtuoso playing with subtle and accessible commentary.\n\nConcert pianist Marie-AndrÃ©e Ostiguy has built a strong reputation for her consistent ability to entertain her audience with performances that bring together classical works and her original compositions.  Her folksy down-home style has also earned her a large following on TV\, radio and in particular on the stage\, where her connection with the audience has irrefutably redefined the popular perception of a ?concert pianist?.  Her touring program ?Schubertiades? will awaken you to the romanticism of Franz Schubert?s ?Impromptus & Scherzi? along with works of Mozart\, Chopin and her original compositions.\n\nSpecial thanks to our print media sponsors The Columbian and the Camas-Washougal Post-Record
LOCATION:Joyce Garver Theater\, a 750-seat auditorum located at 14th and NE Garfield in Camas\, Washington. Just south of Liberty Middle School.
UID:e.139.73
SEQUENCE:3
DTSTAMP:20260419T143714Z
URL:http://business.cwchamber.com/events/details/classical-pianist-marie-andree-ostiguy-03-29-2008-73
END:VEVENT

END:VCALENDAR
