BEGIN:VCALENDAR
VERSION:2.0
PRODID:-//ChamberMaster//Event Calendar 2.0//EN
METHOD:PUBLISH
X-PUBLISHED-TTL:P3D
REFRESH-INTERVAL:P3D
CALSCALE:GREGORIAN
BEGIN:VEVENT
DTSTART;VALUE=DATE:20080311
DTEND;VALUE=DATE:20080312
TRANSP:TRANSPARENT
X-MICROSOFT-CDO-ALLDAYEVENT:TRUE
SUMMARY:CHAMBER AFTER HOURS - MARCH
DESCRIPTION:Please join us\, Tuesday\, March 11th at the Quarry Senior Living (415 SE 177th Ave Vanc.\, WA 98683) for a wonderful after hours event from 4:30-6:30 p.m. We welcome all Chamber members to join us for appetizers and a tour. We also have meeting space available for free to members.\n\nOfficially opening on January 7\, 2008\, the Quarry is locally owned and has 86 independent luxury apartments\, 42 assisted living apartments\, one of the nation's only Parkinson's specific apartments\, and a total of 24 memory care apartments.
X-ALT-DESC;FMTTYPE=text/html:<p>Please join us\, Tuesday\, March 11th at the Quarry Senior Living (415 SE 177th Ave Vanc.\, WA 98683) for a wonderful after hours event from 4:30-6:30 p.m. We welcome all Chamber members to join us for appetizers and a tour. We also have meeting space available for free to members.</p>\n\n<p>Officially opening on January 7\, 2008\, the Quarry is locally owned and has 86 independent luxury apartments\, 42 assisted living apartments\, one of the nation&rsquo\;s only Parkinson&rsquo\;s specific apartments\, and a total of 24 memory care apartments.</p>\n
LOCATION:The Quarry Senior Living 415 SE 177th Ave. Vancouver WA 98683
UID:e.139.109
SEQUENCE:3
DTSTAMP:20260419T142827Z
URL:http://business.cwchamber.com/events/details/chamber-after-hours-march-03-11-2008-109
END:VEVENT

END:VCALENDAR
