BEGIN:VCALENDAR
VERSION:2.0
PRODID:-//ChamberMaster//Event Calendar 2.0//EN
METHOD:PUBLISH
X-PUBLISHED-TTL:P3D
REFRESH-INTERVAL:P3D
CALSCALE:GREGORIAN
BEGIN:VEVENT
DTSTART:20080411T000000Z
DTEND:20080411T020000Z
X-MICROSOFT-CDO-ALLDAYEVENT:FALSE
SUMMARY:CHAMBER AFTER HOURS @ ITS A CREWEL WORLD
DESCRIPTION:Please join us on Thursday\, April 10th at Its a Crewel World\, for a networking event! It's A Crewel World is celebrating their 22 anniversary\, and is inviting all chamber members\, key employees and friends to their shop to enjoy Birthday Cake\, wine\, snacks and more!  This event is FREE and open to the general public! Its A Crewel World offers classes and supplies for those who knit and crochet\; but also have\, one-of-a-kind purses\, sweaters\, jackets and accessories\, that are hand made by our local fiber artists. Knitting is very popular among the young people and has been offered at the local schools.  We have classes for kids on Wednesday afternoons.
X-ALT-DESC;FMTTYPE=text/html:<div>Please join us on Thursday\, April 10th at Its a Crewel World\, for a networking event!</div><div>&nbsp\;</div><div><font size="2">It's A Crewel World is celebrating their&nbsp\;22 anniversary\, and is inviting all chamber&nbsp\;members\, key employees and friends to their shop to enjoy Birthday Cake\,&nbsp\;wine\, snacks and more!&nbsp\;</font></div><div>&nbsp\;</div><div><font size="2">This event is FREE and open to the general public!</font></div><div><div>&nbsp\;</div><div><font face="Arial" size="2">Its A Crewel World</font><font face="Arial" size="2">&nbsp\;offers classes and supplies for those who knit and crochet\; but also have\,&nbsp\;one-of-a-kind purses\, sweaters\, jackets and accessories\, that are hand made by our local fiber artists.</font></div><div>&nbsp\;</div><div><font face="Arial" size="2">Knitting is very popular among the young people and has been offered at the local schools.&nbsp\; We have classes for kids on Wednesday afternoons. </font></div></div>
LOCATION:982 E StreetWashougal\, WA 98671360-835-9649
UID:e.139.114
SEQUENCE:3
DTSTAMP:20260419T125633Z
URL:http://business.cwchamber.com/events/details/chamber-after-hours-its-a-crewel-world-04-10-2008-114
END:VEVENT

END:VCALENDAR
