BEGIN:VCALENDAR
VERSION:2.0
PRODID:-//ChamberMaster//Event Calendar 2.0//EN
METHOD:PUBLISH
X-PUBLISHED-TTL:P3D
REFRESH-INTERVAL:P3D
CALSCALE:GREGORIAN
BEGIN:VEVENT
DTSTART:20061201T080000Z
DTEND:20061201T080000Z
X-MICROSOFT-CDO-ALLDAYEVENT:FALSE
SUMMARY:Camas Hometown Holidays
DESCRIPTION:Camas Hometown Holidays is almost here!!\n\nStart off the holiday season with us as we light the community tree at 6:30 p.m. and welcome Santa. Extended hours are specials at local businesses\, holiday entertainment and more!
X-ALT-DESC;FMTTYPE=text/html:Camas Hometown Holidays is almost here!!\n\nStart off the holiday season with us as we light the community tree at 6:30 p.m. and welcome Santa. Extended hours are specials at local businesses\, holiday entertainment and more!\n
LOCATION:Downtown Camas!!!
UID:e.139.13
SEQUENCE:3
DTSTAMP:20260420T163647Z
URL:http://business.cwchamber.com/events/details/camas-hometown-holidays-12-01-2006-13
END:VEVENT

END:VCALENDAR
