BEGIN:VCALENDAR
VERSION:2.0
PRODID:-//ChamberMaster//Event Calendar 2.0//EN
METHOD:PUBLISH
X-PUBLISHED-TTL:P3D
REFRESH-INTERVAL:P3D
CALSCALE:GREGORIAN
BEGIN:VEVENT
DTSTART;VALUE=DATE:20080527
DTEND;VALUE=DATE:20080528
TRANSP:TRANSPARENT
X-MICROSOFT-CDO-ALLDAYEVENT:TRUE
SUMMARY:CAMAS DAYS COMMITTEE MEETING
DESCRIPTION:Do you want to be part of the biggest Festival in East County? The Camas Days Committee is forming! If you would like to be part of the behind-the-scenes action\, please RSVP and attend this first Camas Days Committee meeting.Being part of the Committee means being able to volunteer/help at Camas Days\, which will be Friday\, July 25th and Saturday\, July 26th!There are a number of ways you can make a difference! Be part of the Wine & Microbrew Street team\, or part of the Parade Team. We can always use an extra hand when it comes setting up or tearing down! It maybe only a few hours to you\, but it means the world to us\, a two-person office that runs the entire festival with the help of this committee!
X-ALT-DESC;FMTTYPE=text/html:<p>Do you want to be part of the biggest Festival in East County? The Camas Days Committee is forming! If you would like to be part of the behind-the-scenes action\, please RSVP and attend this first Camas Days Committee meeting.</p><p>Being part of the Committee means being able to volunteer/help at Camas Days\, which will be Friday\, July 25th and Saturday\, July 26th!</p><p>There are a number of ways you can make a difference! Be part of the Wine &amp\; Microbrew Street team\, or part of the Parade Team. We can always use an extra hand when it comes setting up or tearing down! <strong>It maybe only a few hours to you\, but it means the world to us\, a two-person office that runs the entire festival with the help of this committee!</strong></p><p>&nbsp\;</p><p>&nbsp\;</p>
LOCATION:CW Chamber office422 NE 4th AvenueCamas WA 98607
UID:e.139.132
SEQUENCE:3
DTSTAMP:20260423T091331Z
URL:http://business.cwchamber.com/events/details/camas-days-committee-meeting-05-27-2008-132
END:VEVENT

END:VCALENDAR
